BEGIN:VCALENDAR
VERSION:2.0
PRODID:https://www.emmeci.it
X-PUBLISHED-TTL:P1W
BEGIN:VEVENT
UID:69e4d83b5fb51
DTSTART;VALUE=DATE:20240319
SEQUENCE:0
TRANSP:OPAQUE
DTEND;VALUE=DATE:20240322
URL:https://www.emmeci.it/en/exhibitions/emmeci-shows-packaging-solutions-a
 t-logimat
LOCATION:Stuttgart\, Germany
SUMMARY:EMMECI shows packaging solutions at LogiMAT
CLASS:PUBLIC
X-ALT-DESC;FMTTYPE=text/html:<p>• &nbsp\; &nbsp\;EMMECI at LogiMAT 19-21 
 March in Stuttgart<br />\n• &nbsp\; &nbsp\;Hall 7\, Booth 7A61<br />\n
 • &nbsp\; &nbsp\;Live demonstrations of E-BM box making solution</p>\n\n
 <p><br />\nJoin EMMECI\, a Coesia company\, at LogiMAT 2024\, from March 1
 9th to March 21st\, with its suite of cutting-edge solutions developed for
  the e-commerce industry.</p>\n\n<p>Visit our booth 7A61 in Hall 7 and dis
 cover <strong>E-BM</strong>\, EMMECI box making solution for packaging on 
 demand engineered to produce fit-to-size American shipping boxes. It boast
 s flexibility\, and adaptability to various materials handling processes a
 nd logistical layouts.</p>\n\n<p><a href=\"https://www.emmeci.it/en/produc
 ts/e-commerce-solutions\">Discover more about EMMECI e-commerce solutions.
 </a></p>\n\n<p><strong>Meet us</strong><br />\nLogiMAT\, 19 to 21 March 20
 24<br />\nStuttgart Trade Fair Centre\, Messepiazza 1\, 70629 Stuttgart\, 
 Germany&nbsp\;<br />\nHall 7\, Booth 7A61</p>\n\, coesia_editor_manager
X-MICROSOFT-CDO-ALLDAYEVENT:TRUE
DTSTAMP:20260419T152723Z
END:VEVENT
END:VCALENDAR