BEGIN:VCALENDAR
VERSION:2.0
PRODID:https://www.emmeci.it
X-PUBLISHED-TTL:P1W
BEGIN:VEVENT
UID:69e741658668e
DTSTART;VALUE=DATE:20260324
SEQUENCE:0
TRANSP:OPAQUE
DTEND;VALUE=DATE:20260327
URL:https://www.emmeci.it/en/exhibitions/emmeci-at-logimat-2026-by-your-sid
 e-in-the-new-e-commerce-era
LOCATION:Stuttgart\, Germany 
SUMMARY:Emmeci at LogiMAT 2026: by your side in the new E-commerce era
CLASS:PUBLIC
X-ALT-DESC;FMTTYPE=text/html:<p>From <strong>March 24 to 26</strong>\, Emme
 ci\, as part of the <strong>Coesia Group</strong>\, will take part in <str
 ong>LogiMAT in Stuttgart</strong>\, the leading international trade show f
 or intralogistics and process management. As one of Coesia’s specialist 
 companies in premium and sustainable packaging automation\, Emmeci contrib
 utes to strengthening the Group’s presence in intralogistics with soluti
 ons designed to support the evolution of <strong>E-commerce and fulfillmen
 t operations</strong>\, drawing on its extensive experience in rigid box t
 echnologies and advanced packaging processes.</p><p>Join us in <strong>Hal
 l 8\, Booth 8C21</strong>\, where you will discover the solutions from the
  Coesia ecosystem\, including <strong>System Digital</strong> and <strong>
 FlexLink.</strong></p><p>Coesia’s companies deliver<strong> user-friendl
 y\, future-ready technologies</strong> that boost agility\, flexibility\, 
 and operational efficiency. Our systems support the growing demands of mod
 ern logistics\, ensuring adaptability\, performance\, and optimized packag
 ing workflows to elevate both customer experience and fulfillment effectiv
 eness.&nbsp\;</p><h5>New solutions for evolving needs: supporting modern E
 -commerce fulfillment</h5><p>At LogiMAT 2026\, Coesia will highlight Emmec
 i’s longstanding expertise in <strong>rigid box packaging</strong> and i
 ts evolving portfolio of solutions tailored to the needs of modern <strong
 >E-commerce order fulfillment</strong>. Building on its heritage in highqu
 ality <strong>rigid packaging</strong> for premium goods\, Emmeci applies 
 its knowhow to support online retailers with <strong>fit to size</strong> 
 packaging that enhances product protection\, reduces waste\, and improves 
 the overall customer experience.</p><p>Easily integrated within broader in
 tralogistics workflows\, Emmeci’s automated technologies help streamline
  fulfillment by reducing manual and repetitive tasks\, enabling consistent
  packaging quality\, and supporting sustainable\, fit for purpose packagin
 g strategies. Combined with automated handling and robotic applications\, 
 these solutions contribute to more efficient\, reliable\, and scalable E-c
 ommerce operations for purpose packaging strategies.</p><p>Coesia is commi
 tted to delivering <strong>smarter</strong>\, <strong>more innovative</str
 ong>\, and <strong>more sustainable</strong> solutions for E-commerce pack
 aging and fulfillment. With new technologies and an expanding ecosystem of
  integrated systems\, Coesia continues to support businesses seeking effic
 iency\, flexibility\, and reliability across their end-to-end operations\,
  E-commerce packaging and fulfillment.</p><p><strong>Visit Coesia at LogiM
 AT 2026&nbsp\;</strong><br>24 – 26 March&nbsp\;<br>Hall 8 – Booth 8C21
 &nbsp\;<br>Stuttgart Trade Fair Centre – Messepiazza 1\, 70629 Stuttgart
 \, Germany&nbsp\;</p>\, coesia_editor_manager
X-MICROSOFT-CDO-ALLDAYEVENT:TRUE
DTSTAMP:20260421T112037Z
END:VEVENT
END:VCALENDAR